{"text_format":"1","workbook":"xlsx","n_sheets":2,"sheets":["Rel. Prest. Contas","Guia de Recolhimento"],"not_rendered":{"charts":0,"images":2,"macros":1,"external_links":0,"defined_names":2,"comments":0,"pivot_tables":0},"unopened":[],"bounds":{"document_bytes":16777216,"sheet_cells":100000,"rows_first":2000,"rows_last":500,"rows_between":2000,"halvings":0,"cell_chars":16384,"cell_head_chars":4096},"cells_cut":0,"cells_raw":0,"read":"whole","date_system":"1900"}

{"sheet":"Rel. Prest. Contas","index":0,"n_rows":63,"n_cols":10,"rows_kept":63,"cut":false,"hidden":false,"merged":[[48,11,48,12],[50,0,50,8],[53,0,53,2],[57,0,57,2],[33,1,33,2],[33,3,33,4],[19,1,19,2],[19,3,19,4],[34,1,34,2],[34,3,34,4],[36,1,36,2],[36,3,36,4],[37,1,37,2],[37,3,37,4],[48,7,48,9],[44,0,44,9],[45,0,45,4],[46,0,46,4],[47,0,47,4],[48,0,48,4],[21,1,21,2],[21,3,21,4],[21,6,21,8],[43,1,43,2],[43,3,43,4],[49,0,49,8],[5,1,5,2],[5,3,5,5],[6,0,7,0],[2,0,2,8],[3,0,3,2],[4,0,4,8],[10,3,10,5],[6,4,6,5],[7,4,7,5],[41,6,41,8],[42,6,42,8],[43,6,43,8],[45,7,45,9],[42,1,42,2],[9,3,9,5],[41,1,41,2],[41,3,41,4],[11,3,11,5],[12,3,12,5],[17,3,17,4],[42,3,42,4],[17,1,17,2],[1,0,1,9],[14,0,14,9],[15,0,15,9],[16,0,16,9],[33,6,33,8],[34,6,34,8],[35,6,35,8],[36,6,36,8],[37,6,37,8],[28,1,28,2],[28,3,28,4],[9,6,13,9],[18,6,18,8],[19,6,19,8],[28,6,28,8],[20,1,20,2],[20,3,20,4],[20,6,20,8],[17,6,17,8],[30,1,30,2],[30,3,30,4],[29,1,29,2],[29,3,29,4],[29,6,29,8],[3,7,3,8],[5,8,5,9],[6,8,6,9],[7,6,7,9],[8,0,8,9],[13,3,13,5],[9,0,9,2],[10,0,10,2],[11,0,11,2],[12,0,12,2],[13,0,13,2],[18,1,18,2],[18,3,18,4],[38,6,38,8],[39,6,39,8],[40,6,40,8],[30,6,30,8],[32,3,32,4],[31,1,31,2],[31,3,31,4],[31,6,31,8],[32,6,32,8],[40,1,40,2],[40,3,40,4],[39,1,39,2],[39,3,39,4],[38,1,38,2],[38,3,38,4],[32,1,32,2],[35,1,35,2],[35,3,35,4],[58,0,58,3],[54,0,54,3],[62,0,62,3],[0,0,0,9],[27,1,27,2],[27,3,27,4],[27,6,27,8],[26,1,26,2],[26,3,26,4],[26,6,26,8],[25,1,25,2],[25,3,25,4],[25,6,25,8],[24,1,24,2],[24,3,24,4],[24,6,24,8],[23,1,23,2],[23,3,23,4],[23,6,23,8],[22,1,22,2],[22,3,22,4],[22,6,22,8],[46,7,46,9],[47,7,47,9]]}
[]
["RELATÓRIO DE PRESTAÇÃO DE CONTAS DE DESPESAS REALIZADAS PELO REGIME DE ADIANTAMENTO"]
[]
["SOLICITAÇÃO GESCOMP N°:",null,null,null,null,"DEPARTAMENTO: ",null,"RAMAL:"]
[]
["DATA","PER. DE APLIC.",null,"RESPONSÁVEIS",null,null,"CPF","RG","EMAIL"]
[null,"INÍCIO",null,"1° RESP.:"]
[null,"FIM",null,"2° RESP.:"]
[]
["NAT. DE DESP. SOLICITAÇÃO: "]
["DOTAÇÃO ORÇAMENTÁRIA: "]
["VALOR: "]
["EMPENHO:"]
["CONTA BANCÁRIA:"]
[]
["RECLASSIFICAÇÃO DE DESPESA"]
[]
["DATA","DOTAÇÃO",null,"CÓD. DE DESP.",null,"VALOR","FORNECEDOR/CREDOR",null,null,"Nº DOC"]
[]
[]
[]
[]
[]
[]
[]
[]
[]
[]
[]
[]
[]
[]
[]
[]
[]
[]
[]
[]
[]
[]
[]
[]
[]
[]
[]
["TOTAL DAS DESPESAS:",null,null,null,null,null,null,{"$f":"SUM(F19:F44)","v":0}]
["SALDO A RECOLHER / DEVOLVER:",null,null,null,null,null,null,{"$f":"H48-H46","v":0}]
["TOTAL DO ADIANTAMENTO:",null,null,null,null,null,null,{"$f":"D12","v":0}]
["RENDIMENTO DE APLICAÇÃO FINANCEIRA"]
[]
["Atestamos a legalidade e exatidão desta prestação de contas e a fidedignidade dos documentos em anexo."]
[]
[]
[]
["Responsável / Executor",null,null,null,null,"Diretor/Chefe "]
[]
[]
[]
["Divisão de Contabilidade",null,null,null,null,"Divisão de Finanças"]
[]
[]
[]
["Diretoria de Contabilidade e Finanças"]

{"sheet":"Guia de Recolhimento","index":1,"n_rows":107,"n_cols":9,"rows_kept":107,"cut":false,"hidden":false,"merged":[[14,0,14,6],[44,1,44,8],[5,0,5,1],[5,2,5,8],[12,1,12,7],[16,1,16,8],[6,0,13,0],[65,0,65,1],[65,2,65,8],[33,0,33,1],[33,2,33,8],[34,0,41,0],[40,1,40,7],[42,0,42,6],[94,0,101,0],[100,1,100,7],[102,0,102,6],[104,1,104,8],[66,0,73,0],[72,1,72,7],[74,0,74,6],[76,1,76,8],[93,0,93,1],[93,2,93,8]]}
[null,"FUNDAÇÃO UNIVERSIDADE ESTADUAL DE MARINGA"]
[null,"Av. Colombo, 5790 - Campus Universitário - Fone (44) 261-4040 - Maringá - PR - CGC 791513120001-56"]
[]
[null,"GUIA DE RECOLHIMENTO"]
[null,null,null,"Credite 1-5  - CONTA MOVIMENTO - AG. 3178-0 "]
["Recebido de",null,{"$f":"'Rel. Prest. Contas'!E7","v":0}]
["Histórico:",{"$f":"\"Recolhimento de valores não utilizados em adiantamento\"","v":"Recolhimento de valores não utilizados em adiantamento"},null,null,null,null,null,null,"Importância"]
[]
[null,"Recolhimento referente a saldo de pronto pagamento",null,null,null,null,null,null,{"$f":"'Rel. Prest. Contas'!$H$47","v":0}]
[null,"Período:","de",{"$f":"'Rel. Prest. Contas'!$C$7","v":"00:00:00"},"a ",{"$f":"'Rel. Prest. Contas'!$C$8","v":"00:00:00"}]
[null,"Empenho: ",{"$f":"'Rel. Prest. Contas'!D13","v":0}]
[null,"Conta adi:",{"$f":"'Rel. Prest. Contas'!$D$14","v":0}]
[null,"Recolhimento referente aplicação financeira ",null,null,null,null,null,null,{"$f":"'Rel. Prest. Contas'!$H$49","v":0}]
[]
[null,null,null,null,null,null,null,"Total R$",{"$f":"SUM(I9:I14)","v":0}]
[]
["Maringá,",{"$f":"TODAY()","v":"2022-02-16"}]
[null,null,null,null,"Visto"]
["1ª via - contribuinte/ - 2ª via - Órgão Executor/ - 3ª via - FUEM/ - 4ª via - Banco"]
[]
[]
[]
[]
[]
[]
[]
[]
[]
[null,"FUNDAÇÃO UNIVERSIDADE ESTADUAL DE MARINGA"]
[null,"Av. Colombo, 5790 - Campus Universitário - Fone (44) 261-4040 - Maringá - PR - CGC 791513120001-56"]
[]
[null,"GUIA DE RECOLHIMENTO"]
[null,null,null,"Credite 1-5  - CONTA MOVIMENTO - AG. 3178-0"]
["Recebido de",null,{"$f":"$C$6","v":0}]
["Histórico:",{"$f":"\"Recolhimento de valores não utilizados em adiantamento\"","v":"Recolhimento de valores não utilizados em adiantamento"},null,null,null,null,null,null,"Importância"]
[]
[null,"Recolhimento referente a saldo de pronto pagamento",null,null,null,null,null,null,{"$f":"$I$9","v":0}]
[null,"Período:","de",{"$f":"$D$10","v":"00:00:00"},"a ",{"$f":"$F$10","v":"00:00:00"}]
[null,"Empenho: ",{"$f":"$C$11","v":0}]
[null,"Conta adi:",{"$f":"$C$12","v":0}]
[null,"Recolhimento referente aplicação financeira ",null,null,null,null,null,null,{"$f":"$I$13","v":0}]
[]
[null,null,null,null,null,null,null,"Total R$",{"$f":"$I$15","v":0}]
[]
["Maringá,",{"$f":"$B$17","v":"2022-02-16"}]
[null,null,null,null,"Visto"]
["1ª via - contribuinte/ - 2ª via - Órgão Executor/ - 3ª via - FUEM/ - 4ª via - Banco"]
[]
[]
[]
[]
[]
[]
[]
[]
[]
[]
[]
[]
[]
[null,"FUNDAÇÃO UNIVERSIDADE ESTADUAL DE MARINGA"]
[null,"Av. Colombo, 5790 - Campus Universitário - Fone (44) 261-4040 - Maringá - PR - CGC 791513120001-56"]
[]
[null,"GUIA DE RECOLHIMENTO"]
[null,null,null,"Credite 1-5  - CONTA MOVIMENTO - AG. 3178-0"]
["Recebido de",null,{"$f":"$C$6","v":0}]
["Histórico:",{"$f":"\"Recolhimento de valores não utilizados em adiantamento\"","v":"Recolhimento de valores não utilizados em adiantamento"},null,null,null,null,null,null,"Importância"]
[]
[null,"Recolhimento referente a saldo de pronto pagamento",null,null,null,null,null,null,{"$f":"$I$9","v":0}]
[null,"Período:","de",{"$f":"$D$10","v":"00:00:00"},"a ",{"$f":"$F$10","v":"00:00:00"}]
[null,"Empenho: ",{"$f":"$C$11","v":0}]
[null,"Conta adi:",{"$f":"$C$12","v":0}]
[null,"Recolhimento referente aplicação financeira ",null,null,null,null,null,null,{"$f":"$I$13","v":0}]
[]
[null,null,null,null,null,null,null,"Total R$",{"$f":"$I$15","v":0}]
[]
["Maringá,",{"$f":"$B$17","v":"2022-02-16"}]
[null,null,null,null,"Visto"]
["1ª via - contribuinte/ - 2ª via - Órgão Executor/ - 3ª via - FUEM/ - 4ª via - Banco"]
[]
[]
[]
[]
[]
[]
[]
[]
[]
[null,"FUNDAÇÃO UNIVERSIDADE ESTADUAL DE MARINGA"]
[null,"Av. Colombo, 5790 - Campus Universitário - Fone (44) 261-4040 - Maringá - PR - CGC 791513120001-56"]
[]
[null,"GUIA DE RECOLHIMENTO"]
[null,null,null,"Credite 1-5  - CONTA MOVIMENTO - AG. 3178-0"]
["Recebido de",null,{"$f":"$C$6","v":0}]
["Histórico:",{"$f":"\"Recolhimento de valores não utilizados em adiantamento\"","v":"Recolhimento de valores não utilizados em adiantamento"},null,null,null,null,null,null,"Importância"]
[]
[null,"Recolhimento referente a saldo de pronto pagamento",null,null,null,null,null,null,{"$f":"$I$9","v":0}]
[null,"Período:","de",{"$f":"$D$10","v":"00:00:00"},"a ",{"$f":"$F$10","v":"00:00:00"}]
[null,"Empenho: ",{"$f":"$C$11","v":0}]
[null,"Conta adi:",{"$f":"$C$12","v":0}]
[null,"Recolhimento referente aplicação financeira ",null,null,null,null,null,null,{"$f":"$I$13","v":0}]
[]
[null,null,null,null,null,null,null,"Total R$",{"$f":"$I$15","v":0}]
[]
["Maringá,",{"$f":"$B$17","v":"2022-02-16"}]
[null,null,null,null,"Visto"]
["1ª via - contribuinte/ - 2ª via - Órgão Executor/ - 3ª via - FUEM/ - 4ª via - Banco"]